BEGIN:VCALENDAR
VERSION:2.0
PRODID:-//Harvey Region - ECPv6.15.20//NONSGML v1.0//EN
CALSCALE:GREGORIAN
METHOD:PUBLISH
X-WR-CALNAME:Harvey Region
X-ORIGINAL-URL:https://harveyregion.com.au
X-WR-CALDESC:Events for Harvey Region
REFRESH-INTERVAL;VALUE=DURATION:PT1H
X-Robots-Tag:noindex
X-PUBLISHED-TTL:PT1H
BEGIN:VTIMEZONE
TZID:Asia/Shanghai
BEGIN:STANDARD
TZOFFSETFROM:+0800
TZOFFSETTO:+0800
TZNAME:CST
DTSTART:20250101T000000
END:STANDARD
END:VTIMEZONE
BEGIN:VEVENT
DTSTART;TZID=Asia/Shanghai:20260415T090000
DTEND;TZID=Asia/Shanghai:20260428T170000
DTSTAMP:20260425T014413
CREATED:20260401T081915Z
LAST-MODIFIED:20260402T002726Z
UID:28542-1776243600-1777395600@harveyregion.com.au
SUMMARY:The ANZAC Victoria Cross Story Exhibition
DESCRIPTION:Honouring our ANZAC military legends!\nThe ANZAC Victoria Cross Story is an exhibition designed to honour Australia’s and New Zealand’s Victoria Cross recipients. \nIt has two primary purposes: \n\nto pay tribute to the military legends of our country\, and\nto educate and inform the public on the deeds of these men and the legacy they paid to their countries afterwards.\n\nThe Victoria Cross (VC) is the highest military honour for bravery in wartime awarded to members of the armed forces. It remains a powerful symbol of bravery and sacrifice\, with stories like that of Albert Jacka continuing to inspire future generations and exemplifying extraordinary valour during World War I. The legacy of these heroes is preserved through various memorials and exhibitions\, ensuring that their acts of valour are never forgotten. \nThe Victoria Cross was instituted by Queen Victoria in 1856. It is the highest honour for military gallantry in the British and Commonwealth armed forces. The medal is cast in bronze and features a lion atop a crown\, with the inscription “FOR VALOUR.” Each medal is inscribed with the recipient’s name\, rank\, unit\, and the date of the act of bravery. \nOnly 123 Australian and New Zealand soldiers have received the Victoria Cross\, highlighting the significance of this honor. \nAlbert “Bert’ Jacka was the first Australian to be awarded the Victoria Cross during World War I. He earned this prestigious medal for his remarkable bravery at Gallipoli\, where he single-handedly captured a Turkish trench during a counter-attack. Jacka’s actions not only exemplified the spirit of the ANZAC but also earned him a reputation as one of Australia’s most respected soldiers. He continued to serve valiantly on the Western Front\, receiving multiple honours for his bravery. \nThe ANZAC Victoria Cross Story exhibition by Tony Banner aims to honor all recipients through a mobile exhibition that tells their stories. This exhibition features panels for each recipient\, with a variety of physical and electronic displays showcasing their biographies and contributions to military history. It serves as a tribute to the courage and sacrifice of ANZAC soldiers. \nTony Banner has a wealth of information and additional stories to impart to interested parties.  He can be contacted at 0409 680 294 or avcstory@yahoo.com. \nBookings are not required and group tours are welcomed. \nEntry is free but donations are welcomed to help with future development. \n \n \n \n \n 
URL:https://harveyregion.com.au/event/the-anzac-victoria-cross-story-exhibition/
LOCATION:Harvey Town Hall\, 104 Uduc Road\,\, Harvey\, WA\, 6220\, Australia
ATTACH;FMTTYPE=image/jpeg:https://harveyregion.com.au/wp-content/uploads/2026/04/The-ANZAC-Victoria-Cross-Story-Harvey-Town-Hall-set-up.jpg
END:VEVENT
BEGIN:VEVENT
DTSTART;TZID=Asia/Shanghai:20260425T053000
DTEND;TZID=Asia/Shanghai:20260425T140000
DTSTAMP:20260425T014413
CREATED:20240402T063001Z
LAST-MODIFIED:20260323T070622Z
UID:17106-1777095000-1777125600@harveyregion.com.au
SUMMARY:ANZAC Day Dawn Service - Yarloop
DESCRIPTION:The ANZAC Day Dawn Service and ANZAC March is an opportunity to reflect on the ANZAC legacy\, which continues to inspire courage\, mateship and bravery in new generations of Australians.\nDawn Service\, march from School Road and followed by an ANZAC Service and breakfast at the Yarloop Volunteer Bushfire Brigade Station. \n 
URL:https://harveyregion.com.au/event/anzac-day-dawn-service-yarloop/
LOCATION:Yarloop War Memorial\, Railway Parade\, Yarloop\, WA\, 6218\, Australia
CATEGORIES:Annual Event,Arts & Culture,Families
ATTACH;FMTTYPE=image/jpeg:https://harveyregion.com.au/wp-content/uploads/2023/11/IMG_1358-scaled.jpg
ORGANIZER;CN="Karen Wilson":MAILTO:kassa.wilson17@gmail.com
END:VEVENT
BEGIN:VEVENT
DTSTART;TZID=Asia/Shanghai:20260425T072000
DTEND;TZID=Asia/Shanghai:20260425T100000
DTSTAMP:20260425T014413
CREATED:20240425T022146Z
LAST-MODIFIED:20260323T070057Z
UID:17443-1777101600-1777111200@harveyregion.com.au
SUMMARY:ANZAC Day Dawn Service and March - Brunswick Junction
DESCRIPTION:The Anzac Day Dawn Service and ANZAC March is an opportunity to reflect on the ANZAC legacy\, which continues to inspire courage\, mateship and bravery in new generations of Australians. \nMarchers are to assemble at 7:20am outside the St Johns Ambulance Centre and march to the Brunswick Memorial Gates for the wreath laying ceremony. \nThe Service will follow at the Brunswick Memorial Hall at 7:45am. After the service a sausage sizzle will be available (gold coin donation).
URL:https://harveyregion.com.au/event/anzac-day-dawn-service-and-march/
LOCATION:St John’s Ambulance Centre\, 3 Ridley Street\, Brunswick\, WA\, 6224\, Australia
CATEGORIES:Annual Event,Arts & Culture,Families
ATTACH;FMTTYPE=image/jpeg:https://harveyregion.com.au/wp-content/uploads/2024/04/brunswick.jpg
END:VEVENT
BEGIN:VEVENT
DTSTART;TZID=Asia/Shanghai:20260425T090000
DTEND;TZID=Asia/Shanghai:20260426T160000
DTSTAMP:20260425T014413
CREATED:20260415T060709Z
LAST-MODIFIED:20260417T041222Z
UID:15384-1777107600-1777219200@harveyregion.com.au
SUMMARY:Harvey Show 2026
DESCRIPTION:Experience the Tradition of the Harvey Agricultural Show!\nEnjoy a classic country agricultural show filled with excitement\, competition\, and community spirit! The Harvey Recreation Grounds will come alive on Saturday\, 25 April and Sunday\, 26 April 2026\, with a spectacular fireworks display\, followed by a full day of competitions\, sideshows\, market stalls\, displays\, entertainment\, and more on Sunday. \nFrom horse and cattle competitions to prize-winning produce\, flowers\, cooking\, and arts & crafts\, there’s something for everyone to enjoy. \nMeet Bluey and Bingo\, witness the high-flying Hard Wired Entertainment\, watch Zootopia at the outdoor cinema\, chill to live bands and much more.  \nSaturday night will conclude with a fabulous ALCOA Fireworks display commencing at 8.30 pm.  \n Event Highlights:15\n\nHorses – Main Oval\nCattle – Show Ring at Hanks Pavilion\nProduce\, Flowers\, Cooking & More – Harvey Recreation & Cultural Centre\n\nEvent Schedule:\n\nSaturday: Gates open 5:00 PM – 9:00 PM (Fireworks Night!)\nSunday: Gates open 9:00 AM – 5:00 PM\n\nDon’t miss this fantastic opportunity to experience the heart of Harvey’s agricultural heritage! \nFor more information\, head to the Harvey Agricultural Show website or download the program here. \n 
URL:https://harveyregion.com.au/event/harvey-show-2024/
LOCATION:Harvey\, Tom Latch Drive\, Harvey\, WA\, 6220\, Australia
CATEGORIES:Annual Event,Arts & Culture,Families
ATTACH;FMTTYPE=image/jpeg:https://harveyregion.com.au/wp-content/uploads/2023/11/Harvey-Show-2023.jpg
ORGANIZER;CN="Harvey Recreation Grounds":MAILTO:harveyagsociety@outlook.com
END:VEVENT
END:VCALENDAR